Workbook

Sheet Form
M1: Projects Log Form
A5: PART ONE | C5: Organization Details
A6: 1. Full name of the organization | I6: 2. Organization registration number | N6: 3. Number of on-going projects (2025)
A8: PART THREE | C8: Projects Log
A9: # | B9: 1.Project name | D9: 2. NDP Sector | E9: 3. NDP Outcome Indicator | F9: 4. District | G9: 5.Project Duration | H9: 6. Start date | I9: 7. End date (if any) | J9: 8.Overall Budget | K9: 9. Budget per Year (2025) | L9: 10. Project Type (H/D) | M9: 11. Funding source(s) | N9: 13. Local Partner(s) | O9: 14. Line MDAs
A10: 1
A11: 2
A12: 3
A13: 4
A14: 5
A15: 6
A16: 7
A17: 8
A18: 9
A19: 10
A20: 11
A21: 12
... A29: 20
A31: Certified by: | C31: Name and Title | L31: Authorized by: | M31: Name and Title
C32: Date and Signature | M32: Date and Signature

Sheet Datacube
A1: Project_# | B1: Organization_Name | C1: Organization_RN | D1: Ongoing_Projects | E1: Project_Name | F1: Start_Date | G1: End_Date | H1: Estimated_Budget | I1: Project_Type | J1: Funding_Sources | K1: Implementing_Partners | L1: Overseeing_MDAs
A2: =Form!A10 -> 1 | B2: =Form!#REF! -> #REF! | C2: =Form!#REF! -> #REF! | D2: =Form!#REF! -> #REF! | E2: =Form!#REF! -> #REF! | F2: =Form!#REF! -> #REF! | G2: =Form!#REF! -> #REF! | H2: =Form!#REF! -> #REF! | I2: =Form!#REF! -> #REF! | ... L2: =Form!#REF! -> #REF!
A3: =Form!A11 -> 2 | B3: =Form!#REF! -> #REF! | C3: =Form!#REF! -> #REF! | D3: =Form!#REF! -> #REF! | E3: =Form!#REF! -> #REF! | F3: =Form!#REF! -> #REF! | G3: =Form!#REF! -> #REF! | H3: =Form!#REF! -> #REF! | I3: =Form!#REF! -> #REF! | ... L3: =Form!#REF! -> #REF!
A4: =Form!A12 -> 3 | B4: =Form!#REF! -> #REF! | C4: =Form!#REF! -> #REF! | D4: =Form!#REF! -> #REF! | E4: =Form!#REF! -> #REF! | F4: =Form!#REF! -> #REF! | G4: =Form!#REF! -> #REF! | H4: =Form!#REF! -> #REF! | I4: =Form!#REF! -> #REF! | ... L4: =Form!#REF! -> #REF!
A5: =Form!A13 -> 4 | B5: =Form!#REF! -> #REF! | C5: =Form!#REF! -> #REF! | D5: =Form!#REF! -> #REF! | E5: =Form!B10 -> 0 | F5: =Form!H10 -> 0 | G5: =Form!I10 -> 0 | H5: =Form!K10 -> 0 | I5: =Form!L10 -> 0 | J5: =Form!M10 -> 0 | K5: =Form!N10 -> 0 | L5: =Form!#REF! -> #REF!
A6: =Form!A14 -> 5 | B6: =Form!#REF! -> #REF! | C6: =Form!#REF! -> #REF! | D6: =Form!#REF! -> #REF! | E6: =Form!#REF! -> #REF! | F6: =Form!#REF! -> #REF! | G6: =Form!#REF! -> #REF! | H6: =Form!#REF! -> #REF! | I6: =Form!#REF! -> #REF! | ... L6: =Form!#REF! -> #REF!
A7: =Form!A15 -> 6 | B7: =Form!#REF! -> #REF! | C7: =Form!#REF! -> #REF! | D7: =Form!#REF! -> #REF! | E7: =Form!#REF! -> #REF! | F7: =Form!#REF! -> #REF! | G7: =Form!#REF! -> #REF! | H7: =Form!#REF! -> #REF! | I7: =Form!#REF! -> #REF! | ... L7: =Form!#REF! -> #REF!
A8: =Form!A16 -> 7 | B8: =Form!#REF! -> #REF! | C8: =Form!#REF! -> #REF! | D8: =Form!#REF! -> #REF! | E8: =Form!#REF! -> #REF! | F8: =Form!#REF! -> #REF! | G8: =Form!#REF! -> #REF! | H8: =Form!#REF! -> #REF! | I8: =Form!#REF! -> #REF! | ... L8: =Form!#REF! -> #REF!
A9: =Form!A17 -> 8 | B9: =Form!#REF! -> #REF! | C9: =Form!#REF! -> #REF! | D9: =Form!#REF! -> #REF! | E9: =Form!B11 -> 0 | F9: =Form!H11 -> 0 | G9: =Form!I11 -> 0 | H9: =Form!K11 -> 0 | I9: =Form!L11 -> 0 | J9: =Form!M11 -> 0 | K9: =Form!N11 -> 0 | L9: =Form!#REF! -> #REF!
A10: =Form!A18 -> 9 | B10: =Form!#REF! -> #REF! | C10: =Form!#REF! -> #REF! | D10: =Form!#REF! -> #REF! | E10: =Form!B12 -> 0 | F10: =Form!H12 -> 0 | G10: =Form!I12 -> 0 | H10: =Form!K12 -> 0 | I10: =Form!L12 -> 0 | J10: =Form!M12 -> 0 | K10: =Form!N12 -> 0 | L10: =Form!#REF! -> #REF!
A11: =Form!A19 -> 10 | B11: =Form!#REF! -> #REF! | C11: =Form!#REF! -> #REF! | D11: =Form!#REF! -> #REF! | E11: =Form!B16 -> 0 | F11: =Form!H16 -> 0 | G11: =Form!I16 -> 0 | H11: =Form!K16 -> 0 | I11: =Form!L16 -> 0 | J11: =Form!M16 -> 0 | K11: =Form!N16 -> 0 | L11: =Form!#REF! -> #REF!
A12: =Form!A20 -> 11 | B12: =Form!#REF! -> #REF! | C12: =Form!#REF! -> #REF! | D12: =Form!#REF! -> #REF! | E12: =Form!B17 -> 0 | F12: =Form!H17 -> 0 | G12: =Form!I17 -> 0 | H12: =Form!K17 -> 0 | I12: =Form!L17 -> 0 | J12: =Form!M17 -> 0 | K12: =Form!N17 -> 0 | L12: =Form!#REF! -> #REF!
A13: =Form!A21 -> 12 | B13: =Form!#REF! -> #REF! | C13: =Form!#REF! -> #REF! | D13: =Form!#REF! -> #REF! | E13: =Form!B18 -> 0 | F13: =Form!H18 -> 0 | G13: =Form!I18 -> 0 | H13: =Form!K18 -> 0 | I13: =Form!L18 -> 0 | J13: =Form!M18 -> 0 | K13: =Form!N18 -> 0 | L13: =Form!#REF! -> #REF!
A14: =Form!A22 -> 13 | B14: =Form!#REF! -> #REF! | C14: =Form!#REF! -> #REF! | D14: =Form!#REF! -> #REF! | E14: =Form!B19 -> 0 | F14: =Form!H19 -> 0 | G14: =Form!I19 -> 0 | H14: =Form!K19 -> 0 | I14: =Form!L19 -> 0 | J14: =Form!M19 -> 0 | K14: =Form!N19 -> 0 | L14: =Form!#REF! -> #REF!
A15: =Form!A23 -> 14 | B15: =Form!#REF! -> #REF! | C15: =Form!#REF! -> #REF! | D15: =Form!#REF! -> #REF! | E15: =Form!B20 -> 0 | F15: =Form!H20 -> 0 | G15: =Form!I20 -> 0 | H15: =Form!K20 -> 0 | I15: =Form!L20 -> 0 | J15: =Form!M20 -> 0 | K15: =Form!N20 -> 0 | L15: =Form!#REF! -> #REF!
A16: =Form!A24 -> 15 | B16: =Form!#REF! -> #REF! | C16: =Form!#REF! -> #REF! | D16: =Form!#REF! -> #REF! | E16: =Form!B21 -> 0 | F16: =Form!H21 -> 0 | G16: =Form!I21 -> 0 | H16: =Form!K21 -> 0 | I16: =Form!L21 -> 0 | J16: =Form!M21 -> 0 | K16: =Form!N21 -> 0 | L16: =Form!#REF! -> #REF!
A17: =Form!A25 -> 16 | B17: =Form!#REF! -> #REF! | C17: =Form!#REF! -> #REF! | D17: =Form!#REF! -> #REF! | E17: =Form!B22 -> 0 | F17: =Form!H22 -> 0 | G17: =Form!I22 -> 0 | H17: =Form!K22 -> 0 | I17: =Form!L22 -> 0 | J17: =Form!M22 -> 0 | K17: =Form!N22 -> 0 | L17: =Form!#REF! -> #REF!
A18: =Form!A26 -> 17 | B18: =Form!#REF! -> #REF! | C18: =Form!#REF! -> #REF! | D18: =Form!#REF! -> #REF! | E18: =Form!B23 -> 0 | F18: =Form!H23 -> 0 | G18: =Form!I23 -> 0 | H18: =Form!K23 -> 0 | I18: =Form!L23 -> 0 | J18: =Form!M23 -> 0 | K18: =Form!N23 -> 0 | L18: =Form!#REF! -> #REF!
A19: =Form!A27 -> 18 | B19: =Form!#REF! -> #REF! | C19: =Form!#REF! -> #REF! | D19: =Form!#REF! -> #REF! | E19: =Form!B24 -> 0 | F19: =Form!H24 -> 0 | G19: =Form!I24 -> 0 | H19: =Form!K24 -> 0 | I19: =Form!L24 -> 0 | J19: =Form!M24 -> 0 | K19: =Form!N24 -> 0 | L19: =Form!#REF! -> #REF!
A20: =Form!A28 -> 19 | B20: =Form!#REF! -> #REF! | C20: =Form!#REF! -> #REF! | D20: =Form!#REF! -> #REF! | E20: =Form!B25 -> 0 | F20: =Form!H25 -> 0 | G20: =Form!I25 -> 0 | H20: =Form!K25 -> 0 | I20: =Form!L25 -> 0 | J20: =Form!M25 -> 0 | K20: =Form!N25 -> 0 | L20: =Form!#REF! -> #REF!
A21: =Form!A30 -> 0 | B21: =Form!#REF! -> #REF! | C21: =Form!#REF! -> #REF! | D21: =Form!#REF! -> #REF! | E21: =Form!B26 -> 0 | F21: =Form!H26 -> 0 | G21: =Form!I26 -> 0 | H21: =Form!K26 -> 0 | I21: =Form!L26 -> 0 | J21: =Form!M26 -> 0 | K21: =Form!N26 -> 0 | L21: =Form!#REF! -> #REF!
